BEGIN:VCALENDAR
VERSION:2.0
PRODID:-//tapahtumainfo.fi//NONSGML Lutakon Lippa: COSTEE, ALIISA SYRJÄ, JEMINA//EN
METHOD:REQUEST
BEGIN:VEVENT
UID:20260421T164808-1055327743-tapahtumainfo.fi
DTSTAMP:20260421T164808
DTSTART:20260816T170000Z
DTEND:20260816T020000Z
LOCATION:Lutakko
SUMMARY:Lutakon Lippa: COSTEE, ALIISA SYRJÄ, JEMINA
DESCRIPTION:<html><head></head><body><b>Su 16.8.2026 Lutakon Lippa: COSTEE, ALIISA SYRJÄ, JEMINA</b><br>Ei ikärajaa / Rajattu anniskelualue K-18<br>Ovet klo 17.00<br>Saattajat veloituksetta saatettavan kanssa. <br /><br />  Visit event in our website: <a href='https://tapahtumainfo.fi/tapahtuma/2026/08/lutakon-lippa-costee-aliisa-syrja-jemina/442678'>Tapahtumainfo.fi</a></body></html>
END:VEVENT
END:VCALENDAR
