BEGIN:VCALENDAR
VERSION:2.0
PRODID:-//tapahtumainfo.fi//NONSGML Picasson jalanjäljissä – Viiniä ja kollaaseja//EN
METHOD:REQUEST
BEGIN:VEVENT
UID:20260425T211322-1619510858-tapahtumainfo.fi
DTSTAMP:20260425T211322
DTSTART:20261114T160000Z
DTEND:20261114T020000Z
LOCATION:Kangasala-talo
SUMMARY:Picasson jalanjäljissä – Viiniä ja kollaaseja
DESCRIPTION:<html><head></head><body><b>Picasson jalanjäljissä – Viiniä ja kollaaseja la 14.11. klo 16–18</b><br><br>Kollaasi on kuvataidetekniikka, jonka nimi tulee ranskan kielen sanasta <i>coller</i> (liimata). Tekniikka on syntynyt 1900-luvun alun kubistien parissa, joista yksi tunnetuimpia oli espanjalainen kuvataiteilija<b> Pablo Picasso</b>.<br><br>Kollaasi on helppo, rentouttava ja hauska tapa tehdä taidetta itsenäisesti tai yhteisöllisesti eikä se vaadi erityistaitoja.<br><br>Tule mukaan nauttimaan viinistä, taiteesta ja taiteen tekemisestä asiantuntevan ohjaajan avustuksella. Inspiroidu ja päästä sisäinen Picassosi valloilleen kollaasien maailmassa!<br><br>Ohjaajana kuvataiteilija <b>Inka Hannula</b>.<br><br>Työpaja järjestetään yhteistyössä Kulttuuriosuuskunta Uulun kanssa.<br><br>Mukaan mahtuu 20 osallistujaa. Työpaja toteutuu, kun 10 osallistujaa on ostanut lipun 7.11.2026 mennessä. Työpaja järjestetään Kangasala-talon 1. kerroksessa.<br><br><b>Liput ja ryhmäliput</b><br><br>Liput Kangasala-talolta ja Lippu.fi<br>Peruslippu 50 €<br>Museokorttilippu 45 € (Varaudu esittämään voimassa oleva <a href="https://museot.fi/">Museokorttisi</a> esitykseen saapuessasi!)<br><br>Lippu.fi lisää tilausmaksut (alk. 1,50 € / tilaus + 0,65 % tilauksesta www.lippu.fi)<br><br>Lippu sisältää sisäänpääsyn taidemuseoon sekä osallistumisen taidepajaan. Kaikki tarvittavat työvälineet sisältyvät hintaan.<br><br><a href="https://kangasala-talo.fi/ravintola/">Kulttuuriravintola Jalmari</a> palvelee tapahtuman ajan. Valikoimasta voit ostaa mieleisesi viinin tai muun juoman.<br> <br /><br />  Visit event in our website: <a href='https://tapahtumainfo.fi/tapahtuma/2026/11/picasson-jalanjaljissa--viinia-ja-kollaaseja/442692'>Tapahtumainfo.fi</a></body></html>
END:VEVENT
END:VCALENDAR
