BEGIN:VCALENDAR
VERSION:2.0
PRODID:-//tapahtumainfo.fi//NONSGML Vanhempainilta//EN
METHOD:REQUEST
BEGIN:VEVENT
UID:20260421T083301-137041989-tapahtumainfo.fi
DTSTAMP:20260421T083301
DTSTART:20261203T180000Z
DTEND:20261203T020000Z
LOCATION:Lappeenrannan kaupunginteatteri, pieni näyttämö
SUMMARY:Vanhempainilta
DESCRIPTION:<html><head></head><body>Isä ja lapsi ovat matkalla päiväkodin vanhempainiltaan. Lapsia ei saisi ottaa sinne mukaan, mutta nyt tämä meni näin. Vanhempainillassa pitää keskustella tärkeistä yhteisistä asioista, istua liian pienille tuoleille täyttämään lomakkeita ja kohdata muita vanhempia. Isän uppoutuessa yhä syvemmälle itseensä ja omaan keskeneräisyyteensä lapsi haluaisi tietysti vain leikkiä – esimerkiksi häpeää tai aikakoneen rakentamista.<br><br>Vanhempainilta on hämmästyttävän tarkkanäköinen ja kiusallisen tunnistettava matka vanhemmuuden kysymysten äärelle. Sen keskiössä ovat kasvattamisen ja kasvamisen haasteet. Tuleeko meistä todella aikuisia vanhemmuuden myötä vai onko se täysin keksittyä? Vanhempainilta pursuaa pienen lapsen tavoin tärkeitä kysymyksiä elämästä ja ihan kaikesta, ja kutsuu samalla katsojan hulvattomaan teatterileikkiin.<br><br>Käsikirjoitus: Veikko Nuutinen<br>Ohjaus: Markus Järvenpää<br>Puvustus ja lavastus: Samuli Halla<br>Rooleissa: Eppu Pastinen, Jussi Johnsson, Anna-Kaisa Makkonen, Sanna Kemppainen<br><br>Kesto: 2 h 20 min<br>Tyylilaji: Draamakomedia<br> <br /><br />  Visit event in our website: <a href='https://tapahtumainfo.fi/tapahtuma/2026/12/vanhempainilta/442711'>Tapahtumainfo.fi</a></body></html>
END:VEVENT
END:VCALENDAR
