BEGIN:VCALENDAR
VERSION:2.0
PRODID:-//tapahtumainfo.fi//NONSGML Onnennumerot ENSI-ILTA//EN
METHOD:REQUEST
BEGIN:VEVENT
UID:20260425T134510-182431802-tapahtumainfo.fi
DTSTAMP:20260425T134510
DTSTART:20261128T160000Z
DTEND:20261128T020000Z
LOCATION:Lappeenrannan kaupunginteatteri, suuri näyttämö
SUMMARY:Onnennumerot ENSI-ILTA
DESCRIPTION:<html><head></head><body>Lappeenrantalaisen Parkkisten perheen yläkerrassa asuva Senni-mummo on aina lotonnut samoilla onnennumeroilla. Temppuilevasta muistista kärsivän mummon sinnikkyys palkitaan viimein, kun arvonnassa osuu seitsemän oikein ja perheeseen tulee jättipotti. Tai niin kaikki luulevat…<br><br>Mummo piilottaa kupongin ja päättää pilailla perheenjäsentensä kustannuksella ennen kuin suostuu jakamaan miljoonapotin heidän kanssaan. Ahneus ja salajuonet nostavat päätään sekä perhesopu joutuu koetukselle, kun Parkkiset ryntäävät etsimään miljoonia hinnalla millä hyvänsä. Mutta muistaako mummo lopulta itsekään missä kuponki on?<br><br>Käsikirjoitus: Mike Yeaman<br>Ohjaus ja sovitus: Antti Silvennoinen<br>Lavastus ja puvustus: Tiina Pietiläinen<br>Käännös: Tuomas Timonen<br>Rooleissa: Leena Nuora, Hanna Kaskela, Tatu Mönttinen, Samuli Punkka, Volter Putro, Netta Salonsaari, Seppo Kaisanlahti<br><br>Kesto 2 h 10 min<br>Tyylilaji Farssi <br /><br />  Visit event in our website: <a href='https://tapahtumainfo.fi/tapahtuma/2026/11/onnennumerot-ensi-ilta/442718'>Tapahtumainfo.fi</a></body></html>
END:VEVENT
END:VCALENDAR
