BEGIN:VCALENDAR
VERSION:2.0
PRODID:-//tapahtumainfo.fi//NONSGML Pikku Papun Orkesteri Taaborinvuorella//EN
METHOD:REQUEST
BEGIN:VEVENT
UID:20260425T221235-33618100-tapahtumainfo.fi
DTSTAMP:20260425T221235
DTSTART:20260905T150000Z
DTEND:20260905T020000Z
LOCATION:Taaborinvuori
SUMMARY:Pikku Papun Orkesteri Taaborinvuorella
DESCRIPTION:<html><head></head><body><b>Pikku Papun Orkesteri</b> hurmaa koko perheen<br><br>Pikku Papun laulut ovat tulleet tutuiksi Pikku Kakkosesta ja Musarullaa-konserttisarjasta. Taaborinvuorella orkesteri esiintyy kvintettinä.<br><br>Orkesterin energinen esiintyminen, akustiset soittimet, moniääninen laulu ja eri tyylilajeilla leikittelevät sovitukset sulattavat niin pienten kuin varttuneempienkin kuulijoiden sydämet. Konsertissa koko perhe pääsee laulamaan, tanssimaan, leikkimään ja kuulemaan akustisten soittimien maailmaa. Riemunkiljahdukset, tanssiaskeleet ja leikkimieli eivät ole vain sallittuja, vaan suorastaan toivottuja.<br><br>Tervetuloa mukaan elämykseen, joka tempaa mukaansa koko perheen!<br><br>Portit ja tarjoilupisteet avataan klo 14.00<br>Konsertti alkaa klo 15.00 ja kestää n. 40 min, ei väliaikaa.<br>Alle 1 vuotiaat lapset sylissä maksutta. Oma paikka aina maksullinen. <br /><br />  Visit event in our website: <a href='https://tapahtumainfo.fi/tapahtuma/2026/09/pikku-papun-orkesteri-taaborinvuorella/442726'>Tapahtumainfo.fi</a></body></html>
END:VEVENT
END:VCALENDAR
