BEGIN:VCALENDAR
VERSION:2.0
PRODID:-//tapahtumainfo.fi//NONSGML LOUNA0NLINE, KEIJU//EN
METHOD:REQUEST
BEGIN:VEVENT
UID:20260421T033609-396263638-tapahtumainfo.fi
DTSTAMP:20260421T033609
DTSTART:20260912T190000Z
DTEND:20260912T020000Z
LOCATION:Lutakko
SUMMARY:LOUNA0NLINE, KEIJU
DESCRIPTION:<html><head></head><body><b>La 12.9.2026 LOUNA0NLINE, KEIJU @ Lutakko</b><br>Ovet klo 19.00<br>Ei ikärajaa / Anniskelualue K-18<br>Narikkamaksu 3€ peritään Lutakon narikassa. Narikka on ilmainen alle 18-vuotiaille.<br>Saattajat veloituksetta saatettavan kanssa.<br><br><b>louna0nline</b><br><br>louna0nline -käyttäjänimen alainen genretön, mutta silti omintakeinen katalogi yhdistelee sulavasti modernia rap-, pop- ja witch house -soundia. Sumuisesta internet estetiikastaan tunnetun uuden aallon artistin preesens välittyy kuulijalle terävien tuotantojen ja henkilökohtaisten sanoitusten kohdatessa toisensa.<br><b><br>Linkit:</b><br>Instagram: <a href="https://www.instagram.com/louna0nline/" target="”_blank”">https://www.instagram.com/louna0nline/</a><br>Tiktok: <a href="https://www.tiktok.com/@louna0nline" target="”_blank”">https://www.tiktok.com/@louna0nline</a><br>Spotify: <a href="https://spoti.fi/3R1oFnO" target="”_blank”">https://spoti.fi/3R1oFnO</a>  <br><br><br><b>keiju</b><br><br>keijun suurin valtti on monipuolisuus, ja hänen genrerajoja häivyttävä tuotantonsa on kiinnittänyt huomiota niin räpin kuin indiepopinkin piireissä. Viime aikoina räppivaihde on kuitenkin ollut lujasti pohjassa, kuten hiljattain julkaistu WINXTAPE -mixtape osoittaa. Artistin unohtumaton flow ja delivery sekä poikkeuksellisen teräväksi kehuttu kynä tuovat tuoreen tuulahduksen suomiräpin kentälle. Keikoilla keiju pystyy luomaan monenlaisia maailmoja utuisista kaihon pyörteistä energisiin räppibileisiin.<br><br><b>Linkit:</b><br>Instagram: <a href="https://www.instagram.com/oikeakeiju/" target="”_blank”">https://www.instagram.com/oikeakeiju/</a><br>Tiktok: <a href="https://www.tiktok.com/@oikeakeiju_" target="”_blank”">https://www.tiktok.com/@oikeakeiju_</a><br>Spotify: <a href="https://spoti.fi/3R1oFnO" target="”_blank”">keiju - Spotify</a> <br /><br />  Visit event in our website: <a href='https://tapahtumainfo.fi/tapahtuma/2026/09/louna0nline-keiju/442728'>Tapahtumainfo.fi</a></body></html>
END:VEVENT
END:VCALENDAR
