BEGIN:VCALENDAR
VERSION:2.0
PRODID:-//tapahtumainfo.fi//NONSGML TUNNETAITOTYÖPAJA MUSIIKIN ÄÄRELLÄ//EN
METHOD:REQUEST
BEGIN:VEVENT
UID:20260423T010548-1265512410-tapahtumainfo.fi
DTSTAMP:20260423T010548
DTSTART:20260603T173000Z
DTEND:20260603T020000Z
LOCATION:Ravintola Vaustin kabinetti, Kotkan konserttitalo
SUMMARY:TUNNETAITOTYÖPAJA MUSIIKIN ÄÄRELLÄ
DESCRIPTION:<html><head></head><body> <br /><br />  Visit event in our website: <a href='https://tapahtumainfo.fi/tapahtuma/2026/06/tunnetaitotyopaja-musiikin-aarella/442740'>Tapahtumainfo.fi</a></body></html>
END:VEVENT
END:VCALENDAR
