BEGIN:VCALENDAR
VERSION:2.0
PRODID:-//tapahtumainfo.fi//NONSGML AVAJAISKONSERTTI//EN
METHOD:REQUEST
BEGIN:VEVENT
UID:20260423T010320-1396944003-tapahtumainfo.fi
DTSTAMP:20260423T010320
DTSTART:20260603T190000Z
DTEND:20260603T020000Z
LOCATION:Kotkan konserttitalo
SUMMARY:AVAJAISKONSERTTI
DESCRIPTION:<html><head></head><body> <br /><br />  Visit event in our website: <a href='https://tapahtumainfo.fi/tapahtuma/2026/06/avajaiskonsertti/442741'>Tapahtumainfo.fi</a></body></html>
END:VEVENT
END:VCALENDAR
