BEGIN:VCALENDAR
VERSION:2.0
PRODID:-//tapahtumainfo.fi//NONSGML OLLI MUSTONEN & BEETHOVEN//EN
METHOD:REQUEST
BEGIN:VEVENT
UID:20260421T215740-1506582814-tapahtumainfo.fi
DTSTAMP:20260421T215740
DTSTART:20260604T180000Z
DTEND:20260604T020000Z
LOCATION:Kotkan konserttitalo
SUMMARY:OLLI MUSTONEN & BEETHOVEN
DESCRIPTION:<html><head></head><body> <br /><br />  Visit event in our website: <a href='https://tapahtumainfo.fi/tapahtuma/2026/06/olli-mustonen-beethoven/442742'>Tapahtumainfo.fi</a></body></html>
END:VEVENT
END:VCALENDAR
