BEGIN:VCALENDAR
VERSION:2.0
PRODID:-//tapahtumainfo.fi//NONSGML KLUBI-ILTA KAIROSSA K18//EN
METHOD:REQUEST
BEGIN:VEVENT
UID:20260422T221642-286564840-tapahtumainfo.fi
DTSTAMP:20260422T221642
DTSTART:20260605T200000Z
DTEND:20260605T020000Z
LOCATION:Ravintola Kairo
SUMMARY:KLUBI-ILTA KAIROSSA K18
DESCRIPTION:<html><head></head><body> <br /><br />  Visit event in our website: <a href='https://tapahtumainfo.fi/tapahtuma/2026/06/klubi-ilta-kairossa-k18/442744'>Tapahtumainfo.fi</a></body></html>
END:VEVENT
END:VCALENDAR
