BEGIN:VCALENDAR
VERSION:2.0
PRODID:-//tapahtumainfo.fi//NONSGML KONSERTTIMATKA HAAPASAAREEN//EN
METHOD:REQUEST
BEGIN:VEVENT
UID:20260423T130609-2012335330-tapahtumainfo.fi
DTSTAMP:20260423T130609
DTSTART:20260606T170000Z
DTEND:20260606T020000Z
LOCATION:Haapasaaren kirkko
SUMMARY:KONSERTTIMATKA HAAPASAAREEN
DESCRIPTION:<html><head></head><body> <br /><br />  Visit event in our website: <a href='https://tapahtumainfo.fi/tapahtuma/2026/06/konserttimatka-haapasaareen/442745'>Tapahtumainfo.fi</a></body></html>
END:VEVENT
END:VCALENDAR
