BEGIN:VCALENDAR
VERSION:2.0
PRODID:-//tapahtumainfo.fi//NONSGML SAARIMAJA SOI//EN
METHOD:REQUEST
BEGIN:VEVENT
UID:20260421T200025-2040794351-tapahtumainfo.fi
DTSTAMP:20260421T200025
DTSTART:20260607T150000Z
DTEND:20260607T020000Z
LOCATION:Kuutsalon Saarimaja
SUMMARY:SAARIMAJA SOI
DESCRIPTION:<html><head></head><body> <br /><br />  Visit event in our website: <a href='https://tapahtumainfo.fi/tapahtuma/2026/06/saarimaja-soi/442746'>Tapahtumainfo.fi</a></body></html>
END:VEVENT
END:VCALENDAR
