BEGIN:VCALENDAR
VERSION:2.0
PRODID:-//tapahtumainfo.fi//NONSGML K-POP UNITED X Dynamo Turku//EN
METHOD:REQUEST
BEGIN:VEVENT
UID:20260422T203434-1704703164-tapahtumainfo.fi
DTSTAMP:20260422T203434
DTSTART:20260605T200000Z
DTEND:20260605T020000Z
LOCATION:Dynamo
SUMMARY:K-POP UNITED X Dynamo Turku
DESCRIPTION:<html><head></head><body><p>DJ MARCUS MAISON</p><p>Music from: BTS, BLACKPINK, BIGBANG, 2NE1, TWICE, EXO, SHINee, STRAY KIDS, NEWJEANS, SEVENTEEN, ENHYPEN, IVE, LE SSERAFIM, GIRLS' GENERATION &amp; more</p> <br /><br />  Visit event in our website: <a href='https://tapahtumainfo.fi/tapahtuma/2026/06/k-pop-united-x-dynamo-turku/442750'>Tapahtumainfo.fi</a></body></html>
END:VEVENT
END:VCALENDAR
