BEGIN:VCALENDAR
VERSION:2.0
PRODID:-//tapahtumainfo.fi//NONSGML Pölkky Kuusamo - Puijo Volley 4. Finaali//EN
METHOD:REQUEST
BEGIN:VEVENT
UID:20260423T140502-583248637-tapahtumainfo.fi
DTSTAMP:20260423T140502
DTSTART:20260424T180000Z
DTEND:20260424T020000Z
LOCATION:Kuusamon Liikuntakeskus
SUMMARY:Pölkky Kuusamo - Puijo Volley 4. Finaali
DESCRIPTION:<html><head></head><body> <br /><br />  Visit event in our website: <a href='https://tapahtumainfo.fi/tapahtuma/2026/04/polkky-kuusamo-puijo-volley-4-finaali/442751'>Tapahtumainfo.fi</a></body></html>
END:VEVENT
END:VCALENDAR
