BEGIN:VCALENDAR
VERSION:2.0
PRODID:-//tapahtumainfo.fi//NONSGML Muistoissani hän on kevät//EN
METHOD:REQUEST
BEGIN:VEVENT
UID:20260422T035243-657227573-tapahtumainfo.fi
DTSTAMP:20260422T035243
DTSTART:20260425T150000Z
DTEND:20260425T020000Z
LOCATION:La Kala-Ooppera
SUMMARY:Muistoissani hän on kevät
DESCRIPTION:<html><head></head><body><p>Marie Finne laulaa keväästä ja tulevasta kesästä, Konserttikiertue alkaa Sumiaisista ja toukokuussa etenee Shinfieldiin, Englantiin ja kulminoituu Lontoon keskustan Fleet Streetille, vuonna 988 rakennettuun kirkkoon St Dunstan in the Westissä.</p><p></p><p>Konsertissa on mm. säveliä elokuvista, musikaaleista kuten Jesus Christ Superstar, opereteista kuten mm. Lepakko ja oopperan kepeitä helmiä kuten Puccinia ja Mozartia.</p><p></p><p>Oopperabaari aukeaa tuntia ennen.</p><p></p><p>Tiedustelut lakalaooppera@gmail.com</p><p>0406856477</p><p>kesto 1h 15 min</p><p>Lapset alle 16 ilmaiseksi</p> <br /><br />  Visit event in our website: <a href='https://tapahtumainfo.fi/tapahtuma/2026/04/muistoissani-han-on-kevat/442753'>Tapahtumainfo.fi</a></body></html>
END:VEVENT
END:VCALENDAR
