BEGIN:VCALENDAR
VERSION:2.0
PRODID:-//tapahtumainfo.fi//NONSGML Degerbyn Possujuhlat 2026//EN
METHOD:REQUEST
BEGIN:VEVENT
UID:20260423T133041-1800536387-tapahtumainfo.fi
DTSTAMP:20260423T133041
DTSTART:20260711T170000Z
DTEND:20260711T020000Z
LOCATION:Degerby Deli
SUMMARY:Degerbyn Possujuhlat 2026
DESCRIPTION:<html><head></head><body>Legendaariset Degerbyn Possujuhlat järjestetään nyt 21 kertaa Degerbyn kauniissa kesämaisemissa. Pääesiintyjänä on moninkertainen Euroviisuvoittaja, rakastettu Johnny Logan oman bändinsä kanssa. Lisäksi lavalle nousevat 60-luvun hittibändi -Topmost-, -Osmo´s Cosmos- ja 70-luvun Rock show, Dire Straits tribuuttibändi -Alchemy- sekä Eagles tribuuttibändi -Easy-. Ilta tulee siis olemaan täynnä hittikappaleita vuosien varrelta. <br /><br />  Visit event in our website: <a href='https://tapahtumainfo.fi/tapahtuma/2026/07/degerbyn-possujuhlat-2026/442754'>Tapahtumainfo.fi</a></body></html>
END:VEVENT
END:VCALENDAR
