BEGIN:VCALENDAR
VERSION:2.0
PRODID:-//tapahtumainfo.fi//NONSGML Beyond the Senses//EN
METHOD:REQUEST
BEGIN:VEVENT
UID:20260424T114958-1848538795-tapahtumainfo.fi
DTSTAMP:20260424T114958
DTSTART:20260614T150000Z
DTEND:20260614T020000Z
LOCATION:Oulun kaupungintalon juhlasali
SUMMARY:Beyond the Senses
DESCRIPTION:<html><head></head><body><b>Beyond the Senses</b> on moniaistinen, noin tunnin mittainen esitys, jossa musiikki ja tanssi sulautuvat yhdeksi vaikuttavaksi kokonaisuudeksi. Duo Rhosia – alttoviulisti Matti Lindholm ja pianisti Alina Sorjonen – sekä tanssija Nina Bulgakova (Ethno Contemporary Ballet) vievät yleisön matkalle, jossa ääni, liike ja tila kohtaavat ainutlaatuisella tavalla.<br><br>Teoksen punaisena lankana kulkee historiallinen La Folia -teema, jonka variaatiot punoutuvat yhteen mm. Arvo Pärtin, Rebecca Clarken ja Franz Schubertin musiikin kanssa. Dramaturgisesti esitys rakentuu kohti huipennusta, tutkien kontrasteja – hiljaisuutta ja ääntä, liikettä ja pysähtyneisyyttä – sekä niiden välistä herkkää tilaa. Lopussa kokonaisuus kevenee <i>Stingin Shape of My Heart </i>-kappaleen instrumentaaliversioon.<br><br>Tanssi toimii teoksessa voimakkaana dramaturgisena elementtinä, tuoden näkyväksi musiikin sisäiset jännitteet ja tunteet. Lopputuloksena syntyy ajaton, syklistä liikettä hengittävä kokemus, jossa mennyt, nykyinen ja tuleva kietoutuvat yhteen.<br><br>Teos on osa Oulu2026-ohjelmaa.<br>Avustaja pääsee tilaisuuteen samalla lipulla (todistus esitettävä). Alle 10-vuotiaat lapset huoltajan seurassa. <br /><br />  Visit event in our website: <a href='https://tapahtumainfo.fi/tapahtuma/2026/06/beyond-the-senses/442756'>Tapahtumainfo.fi</a></body></html>
END:VEVENT
END:VCALENDAR
