BEGIN:VCALENDAR
VERSION:2.0
PRODID:-//tapahtumainfo.fi//NONSGML Nuorten kausikortti Lappeenrannan kaupunginteatteri syksy 2026//EN
METHOD:REQUEST
BEGIN:VEVENT
UID:20260425T225229-1619529641-tapahtumainfo.fi
DTSTAMP:20260425T225229
DTSTART:20261130T000000Z
DTEND:20261130T020000Z
LOCATION:Lappeenrannan Kaupunginteatteri
SUMMARY:Nuorten kausikortti Lappeenrannan kaupunginteatteri syksy 2026
DESCRIPTION:<html><head></head><body>Tervetuloa nauttimaan teatterista koko syyskauden ajan! Kausikortilla p&auml;&auml;set katsomaan teatterimme oman tuotannon esityksi&auml; niin usein kuin haluat. Nuorten kausikortti oikeuttaa 13-18 vuotiaille p&auml;&auml;syn kaikkiin oman tuotannon esityksiin syksyn 2026 aikana.<br /><br />Kortti on henkil&ouml;kohtainen.<br /><br />Paikkalippu haetaan kausikortilla Winkist&auml; tai teatterin ovilipunmyynnist&auml; tuntia ennen esityksen alkua. Jos ostat kortin lahjaksi, ilmoita lahjan saajan nimi lipunmyyntiin teatteri@lappeenranta.fi. <br /><br />  Visit event in our website: <a href='https://tapahtumainfo.fi/tapahtuma/2026/11/nuorten-kausikortti-lappeenrannan-kaupunginteatteri-syksy-2026/442761'>Tapahtumainfo.fi</a></body></html>
END:VEVENT
END:VCALENDAR
