BEGIN:VCALENDAR
VERSION:2.0
PRODID:-//tapahtumainfo.fi//NONSGML Granfelt & Nikku Kitaraklubilla//EN
METHOD:REQUEST
BEGIN:VEVENT
UID:20260422T102859-377820804-tapahtumainfo.fi
DTSTAMP:20260422T102859
DTSTART:20260611T190000Z
DTEND:20260611T020000Z
LOCATION:Kulttuurimeijeri
SUMMARY:Granfelt & Nikku Kitaraklubilla
DESCRIPTION:<html><head></head><body><p>Ben Granfelt ja Jarmo Nikku ovat pitkästä aikaa kitaraklassikoiden parissa.</p><p>Miehet ovat soittaneet aiemminkin yhdessä menestyksekkäästi ja tämän tyylinen kiertue laajentaa molempien horisonttia. Jarmo: “Mä tykkään soittaa Benin ja bändin kanssa koska siinä on aina ‘vaaran tuntua’ kun improvisoinnille on tilaa. Me tullaan niin eri skeneistä kun Ben on soittanut bändeissä missä soolot on pitkiä rakennelmia ja mun oma roolit on ollu sideman-tyyppisiä. Tässä ryhmässä saa rakennella mielinmäärin. Mun nuoruuden musamaku näyttäytyy tällä rundilla aika hyvin.”</p><p>Miesten keskinäinen arvostus korostuu lavalla ja sen ulkopuolella. Ben: “Olen tuntenut Jarmon siitä lähtien kun myin hänelle kieliä ja plektroja Kitarapajassa about -85. Ollaan soitettu monta kertaa yhdessä jo ja tämä Classic Guitar Rock -kiertue on hieno tapa jatkaa yhteistyötä. Jarmo on se ‘Guitar George, he knows all the chords’ -tyyppi ‘Sultans of swing’ -biisissä, mahtava soittaja ja hieno mies.”</p><p>Keikoilla kuullaan kappaleita molempien uran varrelta sekä tarkkaan valikoituja kitararock-klassikoita. Tiedossa on siis ilta täynnä tyylikästä rockia, jammailua ja huumorilla höystettyjä tarinoita.</p><p>Mukana myös Masa Maijanen (basso) ja Jari Salminen (rummut)</p><p>Liput: 12€ lippu.fi ja KIPA kirjakauppa Mäntsälä. Ovelta 15€ (jos lippuja vielä saatavilla)</p><p>Paikka: Kulttuurimeijeri, Meijerin aukio 1 Mäntsälä, TO 11.6. klo 19</p> <br /><br />  Visit event in our website: <a href='https://tapahtumainfo.fi/tapahtuma/2026/06/granfelt-nikku-kitaraklubilla/442765'>Tapahtumainfo.fi</a></body></html>
END:VEVENT
END:VCALENDAR
