BEGIN:VCALENDAR
VERSION:2.0
PRODID:-//tapahtumainfo.fi//NONSGML Kirjafestarit 2026: Päivälippu la 28.11.//EN
METHOD:REQUEST
BEGIN:VEVENT
UID:20260424T154956-654476567-tapahtumainfo.fi
DTSTAMP:20260424T154956
DTSTART:20261128T100000Z
DTEND:20261128T020000Z
LOCATION:Tampere-talo
SUMMARY:Kirjafestarit 2026: Päivälippu la 28.11.
DESCRIPTION:<html><head></head><body>La–su 28.–29.11.<br>Tampereen Kirjafestarit<br>Tampere-talo<br><br><b>Liput</b><br>Yhden päivän lippu 14 €<br>Yhden päivän lippu (eläk./opiskelija/lapsi/ varus- ja siviilipalvelushenkilöt/työttömät) 10 €<br>Yhden päivän perhelippu (2 aik.+ 2 lasta) 29 €<br>Kahden päivän lippu 20 €<br><i>alle 7-vuotiaat lapset pääsevät tapahtumaan veloituksetta</i><br><br>Aukioloajat: la 10-18, su 10-17<br><br>***<br><br>Pirkanmaan suurin kirjallisuuden ja kulttuurin juhla valtaa jälleen Tampere-talon la–su 28.–29.11.2026.<b> Yhdellä lipulla pääset kolmelle festarille</b>, kun<b> Kirjafestarit, Antikvaariset Kirjafestarit</b> ja <b>Levyfestarit </b>yhdistyvät ainutlaatuiseksi elämykseksi.<br><br><b>Levyfestarit</b> keskittyvät musiikin keräilykulttuuriin ja äänentoiston maailmaan – luvassa on vinyyliä, harvinaisuuksia ja liveohjelmaa tunnelmallisessa Sopraano-salissa.<br><br><b>Antikvaarisilla Kirjafestareilla</b> sukelletaan kirjahistorian aarteisiin: vanhoihin painoksiin, keräilyharvinaisuuksiin ja lukemattomiin löytöihin Puistolämpiön sydämessä.<br>Tapahtumaviikonloppu tuo yhteen vuoden puhutuimmat kirjailijat ja teokset, syvälliset asiantuntijapaneelit, poikkitaiteelliset esitykset sekä runoutta, lausuntaa ja musiikkia Aulaklubin maksuttomassa ohjelmassa.<br><br><b>Tampereen Kirjafestarit on koko perheen kulttuuritapahtuma.</b> Lapsille on omaa innostavaa ohjelmaa, ja festareilla viihtyy kaikenikäinen yleisö.<br><br>Mukana on noin sata näytteilleasettajaa. <b>Sorsapuistosalin jättikirjakaupasta</b> ja teemallisilta osastoilta löytyy koko suvulle joululahjakirjat – ja messupäivän lomassa voit nauttia kirjallisesta tunnelmasta kahviloissa ja Tampere-talon ravintoloissa.<br>Tervetuloa viettämään vuoden inspiroivinta kulttuuriviikonloppua!<br><br>Lue lisää tapahtuman virallisilta verkkosivuilta: <a href="https://tampereenkirjafestarit.fi/">https://tampereenkirjafestarit.fi/</a><br><br>Muutokset mahdollisia.<br><br>Tuotanto: Tampere Live ja Tampere-talo<br><br> <br /><br />  Visit event in our website: <a href='https://tapahtumainfo.fi/tapahtuma/2026/11/kirjafestarit-2026-paivalippu-la-28-11/442766'>Tapahtumainfo.fi</a></body></html>
END:VEVENT
END:VCALENDAR
