BEGIN:VCALENDAR
VERSION:2.0
PRODID:-//tapahtumainfo.fi//NONSGML Kuumia aaltoja (K-18)//EN
METHOD:REQUEST
BEGIN:VEVENT
UID:20260422T031159-1649375972-tapahtumainfo.fi
DTSTAMP:20260422T031159
DTSTART:20261106T180000Z
DTEND:20261106T020000Z
LOCATION:Teatterihotellin ravintola
SUMMARY:Kuumia aaltoja (K-18)
DESCRIPTION:<html><head></head><body>Syksyllä 2026 ei tarvitse valita illallisen ja teatterin väliltä, sillä Riihimäen Teatteri avaa ravintolateatterinäyttämön yhteistyössä Teatterihotelli Riihimäen kanssa. Ilta alkaa hyvällä ruoalla ja jatkuu lautasten tyhjennyttyä viihdyttävällä teatteriesityksellä, samalla juhlajuomia nauttien. Kuvittele herkullinen illallinen, jonka jälkeen valot himmenevät ja tarina käynnistyy ympärilläsi – suoraan ravintolasalin pöydässä.<br><br>Kaksi tunnelmaa nostattavaa esitystä!<br><br>Kuumia aaltoja<br><br>Riihimäen kesäteatterissakin nähtävä Kuumia aaltoja sovitetaan kesän jälkeen ihastuttavaksi ravintolateatteriesitykseksi. Tässä karaokeshowssa kahdesta toisilleen tuntemattomasta Annesta tulee sielunsiskot yhden karaokebaari-illan aikana. He nauravat itselleen ja toisilleen, kiroavat niin kuumat aallot kuin ikänäönkin sekä herkistyvät hetkeksi menneiden äärelle. Tervetuloa!<br><br>Esitykset<br>pe 6.11.2026 | la 7.11.2026 | to 26.11.2026 | pe 27.11.2026 | pe 4.12.2026 | la 5.12.2026<br><br>Illallinen alkaa klo 18, showtime klo 20<br><br>Kasarishow<br><br>Kasarishowssa kuulet kappaleita kasarin upeimmilta kuninkaallisilta, häikäistyt neonhohtoisesta lavashowsta ja nautit nostalgian hullusta huumasta! Tyylikäs esitys kiillottaa kasarihitit tähän päivään upein disco- ja big band -sovituksin. Sädehtivät solistit, retrot asut ja muhkean laadukkaat taustanauhat takaavat ikimuistoisen kasari-illan – simply the best!<br><br>Esitykset<br>to 12.11.2026 | pe 13.11.2026 | to 19.11.2026 | pe 20.11.2026<br><br>Illallinen alkaa klo 18, showtime klo 20<br><br>ILLALLINEN<br><br>Noutopöytäillallisella on tarjolla monipuolinen alkuruokavalikoima, kaksi lämmintä pääruokavaihtoehtoa sekä jälkiruoka kahvin ja teen kera. Keskiössä on korkea itsevalmistusaste, laadukkaat raaka-aineet ja intohimo ruokaan.<br><br>Ravintolateatteri on täydellinen paketti erityisesti yritysten virkistysaktiviteetiksi, pikkujouluryhmille sekä pienemmille ystäväseurueille. Tervetuloa kokemaan elämyksellinen ilta, joka jää mieleen!<br><br>Menun löydät nettisivuiltamme: <a href="www.riihimaenteatteri.fi" cr="true">www.riihimaenteatteri.fi</a> <br /><br />  Visit event in our website: <a href='https://tapahtumainfo.fi/tapahtuma/2026/11/kuumia-aaltoja-k-18/442769'>Tapahtumainfo.fi</a></body></html>
END:VEVENT
END:VCALENDAR
