BEGIN:VCALENDAR
VERSION:2.0
PRODID:-//tapahtumainfo.fi//NONSGML Osmo`s Cosmos - Sulkavan Suursoudut//EN
METHOD:REQUEST
BEGIN:VEVENT
UID:20260423T083341-2103386969-tapahtumainfo.fi
DTSTAMP:20260423T083341
DTSTART:20260710T210000Z
DTEND:20260710T020000Z
LOCATION:Sulkavan Soutustadion
SUMMARY:Osmo`s Cosmos - Sulkavan Suursoudut
DESCRIPTION:<html><head></head><body>Upean lavashown omaava Osmo`s Cosmos villitsee Soutukansaa!<br><br /><br><br />Osmo`s Cosmos on jo vuodesta 1996 lähtien keikkaillut show-bändi, joka soittaa glamrock -hengessä pääosin 70-, 80- ja 90-luvun ulkomaisia ja kotimaisia hittejä. <br><br /><br><br />Mukaansa tempaavana livebändinä tunnettu ryhmä villitsee niin nuorta, kuin vähemmän nuorta yleisöä railakkaalla ja ammattitaitoisella show`llaan.<br><br /><br><br />Aftersoudut starttaavat jo klo 19 soututansseilla. Tommi Seppänen & Harri Kautonen DUO soittavat perinteistä tanssi- ja iskelmämusiikkia raikkaalla otteella! Pääesiintyjä Osmo`s Cosmos nousee lavalle klo 22.30. Soutujuhlat jatkuvat DJ:n tahdissa klo 01.30 saakka.<br><br /><br><br />Lippuja on saatavilla myös ovelta. Tilaisuus on ikärajallinen K18. <br /><br />  Visit event in our website: <a href='https://tapahtumainfo.fi/tapahtuma/2026/07/osmo-s-cosmos-sulkavan-suursoudut/442780'>Tapahtumainfo.fi</a></body></html>
END:VEVENT
END:VCALENDAR
