BEGIN:VCALENDAR
VERSION:2.0
PRODID:-//tapahtumainfo.fi//NONSGML Seminola – Juhlat jatkuu!//EN
METHOD:REQUEST
BEGIN:VEVENT
UID:20260421T032035-1525504077-tapahtumainfo.fi
DTSTAMP:20260421T032035
DTSTART:20261125T190000Z
DTEND:20261125T020000Z
LOCATION:Kangasala-talo
SUMMARY:Seminola – Juhlat jatkuu!
DESCRIPTION:<html><head></head><body>Vintage-orkesteri <b>Seminola </b>schlagerien äärellä Kangasala-talossa 25.11.2026<br><br>Vuonna 1926 Tampereella perustettu <b>Seminola</b>-orkesteri soittaa koti- ja ulkomaisia schlagermusiikin helmiä vanhan ajan isolla orkesterilla ja soundilla.<br>Satavuotista taivaltaan juhliva Seminola poimii syksyn konsertin ohjelmistoon helmiä viimeisen neljännesvuosisadan aikana pitämistään konserteista.<br><br>Tervetuloa herkuttelemaan 1920–1950-luvun iskelmämusiikin parissa!<br><br>Laulusolistina toimii<b> Markku Huhtala</b> ja konsertin juontaa tuttuun tapaan <b>Marko Tikka</b>.<br><br>Esityksen arvioitu kesto on n. 2 tuntia, sisältäen väliajan.<br><br>Tuotanto: Kangasala-talo ja Seminola-orkesteri<br><br><b>Lisäpalvelut</b><br>Naulakkopalvelumaksu 2,50 € (vain korttimaksu)<br><br><b>Ravintolan palvelut</b><br>Esityksessä on K18-anniskelualue katsomon yläosassa, riveillä 8-11.<br>Anniskelualueella sijaitsevalle istumapaikalle voi viedä ennen esitystä ja mahdollisen väliajan aikana ostamansa juoman.<br>Anniskelukatsomo on kielletty alle 18-vuotiailta.<br><br><b>Ravintolan palvelut</b><br>Tule virittäytymään illan tunnelmaan jo ennakkoon! Ravintolapalvelut avautuvat tuntia ennen konserttia.<br><a href="https://kangasala-talo.fi/ravintola/" target="_blank">Tutustu Kulttuuriravintola Jalmarin palveluihin ›</a><br><br><b>Kimmo Pyykkö -taidemuseo</b><br>Kangasala-talossa sijaitseva taidemuseo on avoinna konsertin alkuun saakka.<br><a href="https://kimmopyykkotaidemuseo.fi/" target="_blank">Tutustu näyttelyihin ›</a><br><br><b>Saapuminen</b><br>Kangasala-talo sijaitsee hyvien kulkuyhteyksien varrella ja meille saavut helposti myös bussilla, pyörällä tai kävellen! Lue lisää saapumisesta ja pysäköinnistä <a href="https://kangasala-talo.fi/tule-meille/saapuminen/" target="_blank">täältä ›</a> <br /><br />  Visit event in our website: <a href='https://tapahtumainfo.fi/tapahtuma/2026/11/seminola--juhlat-jatkuu/442782'>Tapahtumainfo.fi</a></body></html>
END:VEVENT
END:VCALENDAR
