BEGIN:VCALENDAR
VERSION:2.0
PRODID:-//tapahtumainfo.fi//NONSGML Marskin ennustus//EN
METHOD:REQUEST
BEGIN:VEVENT
UID:20260421T072021-1664038840-tapahtumainfo.fi
DTSTAMP:20260421T072021
DTSTART:20270402T180000Z
DTEND:20270402T020000Z
LOCATION:Savonlinnan Teatteri, PÄÄSALI
SUMMARY:Marskin ennustus
DESCRIPTION:<html><head></head><body>Mitä tapahtuu, kun ihminen elämänsä suurimman käännekohdan edessä tarttuu kohtalon tarjoamaan lupaukseen?<br><br>Vuonna 1917, Venäjän vallankumouksen myllerryksessä, 50-vuotias kenraali Carl Gustaf Emil Mannerheim on syrjäytetty Venäjän armeijasta ja tulevaisuus näyttää epätoivoisen tyhjältä. Odessassa hän kohtaa ennustajan, joka povaa hänelle ennennäkemätöntä suuruutta, pitkää elämää ja valtaisaa menestystä. Ennustus sysää Mannerheimin polulle, joka muovaa paitsi miehen kohtaloa myös koko Suomen tulevaisuutta.<br><br>Elokuvaohjaaja-käsikirjoittaja JP Siilin vaikuttava esikoisnäytelmä Marskin ennustus vie katsojan aikaan, jolloin tulevan valtionpäämiehen epätoivo muuttuu päättäväisyydeksi ja henkilökohtainen kunnianhimo alkaa kietoutua kansakunnan kohtaloon. Kaikki ennustettu toteutuu – mutta toisin kuin hän itse kuvitteli.<br><br>Näytelmä on voimakas ja inhimillinen kertomus miehestä, joka tavoitellessaan suuruutta oppii ymmärtämään vapauden, kodin ja isänmaan merkityksen.<br><br>“Minulle vapaus on arvoista tärkein. Ilman sitä ei ole mitään muuta – on vain alistuminen ja orjuus.” sanoo käsikirjoittaja JP Siili.<br><br>Marskin ennustus on jännittävä ja koskettava teos, joka yhdistää suurmiehen sisäisen kamppailun ja kansakunnan kohtalon.<br><br>Käsikirjoitus JP Siili<br>Ohjaus Aleksander Anria <br /><br />  Visit event in our website: <a href='https://tapahtumainfo.fi/tapahtuma/2027/04/marskin-ennustus/442823'>Tapahtumainfo.fi</a></body></html>
END:VEVENT
END:VCALENDAR
