BEGIN:VCALENDAR
VERSION:2.0
PRODID:-//tapahtumainfo.fi//NONSGML Yhtenä iltana//EN
METHOD:REQUEST
BEGIN:VEVENT
UID:20260423T020805-1154936320-tapahtumainfo.fi
DTSTAMP:20260423T020805
DTSTART:20270115T180000Z
DTEND:20270115T020000Z
LOCATION:Savonlinnan Teatteri, PÄÄSALI
SUMMARY:Yhtenä iltana
DESCRIPTION:<html><head></head><body>Yhtenä iltana -näytelmä kertoo Lauran ja hänen uusien naapureidensa tarinan siitä, että omituisuuksistaan huolimatta, lopulta ”kaikki tahtoo rakastaa”.<br><br>Vastaus elämän haasteisiin saattaa löytyä yllättävän läheltä, kun uskaltaa hymyillä roskakatoksen reunalla vastaan tulevalle naapurille ja kuunnella mitä tällä on sydämellään. Näytelmän teemoina ovat ystävyys, rakkaus ja se, miten oma perhe voi lopulta rakentua erilaisista palikoista, kuin alun perin oli kuvitellut. Näytelmässä on paljon hersyvää huumoria, mutta myös koskettavia hetkiä perheen ja rakkauden etsimisestä.<br>Musiikkina kuullaan Hectorin rakastetuimpia lauluja livebändin säestyksellä.<br><br>Käsikirjoitus Tiina Iisala. Ohjaus Aleksander Anria. <br /><br />  Visit event in our website: <a href='https://tapahtumainfo.fi/tapahtuma/2027/01/yhtena-iltana/442859'>Tapahtumainfo.fi</a></body></html>
END:VEVENT
END:VCALENDAR
