BEGIN:VCALENDAR
VERSION:2.0
PRODID:-//tapahtumainfo.fi//NONSGML Tule joulu kultainen//EN
METHOD:REQUEST
BEGIN:VEVENT
UID:20260425T213010-2089436039-tapahtumainfo.fi
DTSTAMP:20260425T213010
DTSTART:20261202T180000Z
DTEND:20261202T020000Z
LOCATION:Lappeenranta-sali
SUMMARY:Tule joulu kultainen
DESCRIPTION:<html><head></head><body>Tule virittäytymää joulutunnelmaan rakastettujen ja vähän tuntemattomampienkin joululaulujen parissa. Konsertin toteuttavat yhteistyössä Lappeenrannan kaupunginorkesteri ja kaupunginteatteri.<br><br>Kapellimestari: Jani Pola<br>Solistit: Jussi Johnsson, Hanna Kaskela, Sanna Kemppainen, Tatu Mönttinen, Volter Putro ja Netta Salonsaari. <br /><br />  Visit event in our website: <a href='https://tapahtumainfo.fi/tapahtuma/2026/12/tule-joulu-kultainen/442861'>Tapahtumainfo.fi</a></body></html>
END:VEVENT
END:VCALENDAR
