BEGIN:VCALENDAR
VERSION:2.0
PRODID:-//tapahtumainfo.fi//NONSGML Matinea-kortti Lappeenrannan kaupunginteatteri syksy 2026//EN
METHOD:REQUEST
BEGIN:VEVENT
UID:20260425T224437-253550646-tapahtumainfo.fi
DTSTAMP:20260425T224437
DTSTART:20261201T000000Z
DTEND:20261201T020000Z
LOCATION:Lappeenrannan Kaupunginteatteri
SUMMARY:Matinea-kortti Lappeenrannan kaupunginteatteri syksy 2026
DESCRIPTION:<html><head></head><body>Lappeenrannan kaupunginteatterin Matineakortti oikeuttaa pääsyn kaikkiin teatterin omien tuotantojen ennen klo 15 alkaviin esityksiin syksyn 2026 aikana. Paikkalippu haetaan kausikortilla Winkistä tai teatterin lipunmyynnistä. Kortti ovat henkilökohtainen. <br /><br />  Visit event in our website: <a href='https://tapahtumainfo.fi/tapahtuma/2026/12/matinea-kortti-lappeenrannan-kaupunginteatteri-syksy-2026/442862'>Tapahtumainfo.fi</a></body></html>
END:VEVENT
END:VCALENDAR
