BEGIN:VCALENDAR
VERSION:2.0
PRODID:-//tapahtumainfo.fi//NONSGML The House Is Rockin' Goes The 80s//EN
METHOD:REQUEST
BEGIN:VEVENT
UID:20260421T060521-678734944-tapahtumainfo.fi
DTSTAMP:20260421T060521
DTSTART:20261017T190000Z
DTEND:20261017T020000Z
LOCATION:Järvenpää-talo, Sibelius-sali
SUMMARY:The House Is Rockin' Goes The 80s
DESCRIPTION:<html><head></head><body><b>The House Is Rockin’ Goes The 80s</b><br><br>Suureen suosioon noussut The House Is Rockin’ sukeltaa tällä kertaa 80-luvun ihmeelliseen maailmaan. Kasarivuosikymmen oli erittäin tuottoisaa aikaa niin elokuvien, tv-sarjojen kuin musiikinkin saralla. Edelleen päivittäin tai lähes päivittäin törmäämme jossain muodossa 80-lukuun.<br><br>The House Is Rockin’ ohjelmisto tulee sisältämään musiikkia mm. sellaisista elokuvista, kuten Rocky, Top Gun, Beverly Hills kyttä. Kappalevalinnoista voidaan paljastaa mm. sellaisia helmiä, kuin Smooth Criminal, Danger Zone, The Best ym. ym. Tarjolla on siis mahtava läpileikkaus kasarivuosikymmenen musiikista upeiden artistien ja huikean bändin sekä ihastuttavien tanssijoiden esittäminä.<br><br>Ja jälleen kerran katsomossa saa laulaa ja tanssia mukana, se on jopa suositeltavaa.<br><br><b>Anne Lampela </b>Laulu<br><b>Annina Tuominen</b> Laulu<br><b>Minna Andersson</b> Laulu<br><b>Marko Turunen</b> Laulu<br><b>Tommi Fäldt</b> Laulu<br><b>Toni Savolainen</b> Laulu<br><b>Hilla Ruotsala</b> Saksofoni<br><b>Olli-Pekka Tuomisalo</b> Saksofoni<br><b>Mitro Koskiluoma</b> Trumpetti<br><b>Tomi Aremaa</b> Koskettimet<br><b>Mika Mäkelä</b> Rummut<br><b>Jani Nousiainen</b> Kitara<br><b>Kristian Palmen</b> Kitara<br><b>Juha Nyman</b> Basso<br><b>Johan Fallenius</b> Äänentoisto <br /><br />  Visit event in our website: <a href='https://tapahtumainfo.fi/tapahtuma/2026/10/the-house-is-rockin-goes-the-80s/442863'>Tapahtumainfo.fi</a></body></html>
END:VEVENT
END:VCALENDAR
