BEGIN:VCALENDAR
VERSION:2.0
PRODID:-//tapahtumainfo.fi//NONSGML NÄYTTELYKUVIA//EN
METHOD:REQUEST
BEGIN:VEVENT
UID:20260422T032256-1526198116-tapahtumainfo.fi
DTSTAMP:20260422T032256
DTSTART:20260910T180000Z
DTEND:20260910T020000Z
LOCATION:Kuopion Musiikkikeskus Konserttisali
SUMMARY:NÄYTTELYKUVIA
DESCRIPTION:<html><head></head><body><p>  <b>To 10.9. klo 18<br>KAUSIKONSERTTI 1: NÄYTTELYKUVIA</b><br>Kuopion   kaupunginorkesteri & Jyväskylä Sinfonia<br>Karen Kamensek,   kapellimestari<br>Isabelle van Keulen, viulu<br><i><br>Anna Clyne: This   Midnight Hour (2015)<br>Erich Wolfgang Korngold: Viulukonsertto op. 35   D-duuri (1945)<br>Modest Mussorgsky (orkestraatio Maurice Ravel):   Näyttelykuvia (1922)</i><br><br>Sinfonisen kauden aloitus yhdistää   kaksi orkesteria uljaaksi suurkokoonpanoksi Grammy-palkitun   kapellimestarin johdolla. Korngoldin viulukonserton kauniin ja   elokuvallisen maailman kehystää upea Isabelle van Keulen. Sen rinnalla   This Midnight Hour on mielikuvitusta kutkuttava orkesterimatka yön   sykkeeseen ja Näyttelykuvat, yksi klassisen musiikin vaikuttavimmista   matkakertomuksista, kuljettaa kuulijan läpi kuvitteellisen   taidenäyttelyn, jossa jokainen maalaus herää eloon sinfoniseen   väriloistoon.<br><br>Järj. Kuopion kaupunginorkesteri<br>Konsertti   sisältyy Kausikorttiin ja Minisarjaan 1.</p> <br /><br />  Visit event in our website: <a href='https://tapahtumainfo.fi/tapahtuma/2026/09/nayttelykuvia/442865'>Tapahtumainfo.fi</a></body></html>
END:VEVENT
END:VCALENDAR
