BEGIN:VCALENDAR
VERSION:2.0
PRODID:-//tapahtumainfo.fi//NONSGML SVÄNGFONIA//EN
METHOD:REQUEST
BEGIN:VEVENT
UID:20260421T172406-580591680-tapahtumainfo.fi
DTSTAMP:20260421T172406
DTSTART:20261001T180000Z
DTEND:20261001T020000Z
LOCATION:Kuopion Musiikkikeskus Konserttisali
SUMMARY:SVÄNGFONIA
DESCRIPTION:<html><head></head><body><p>  <b>To 1.10. klo 18<br>KAUSIKONSERTTI 2:<br>SVÄNGFONIA</b><br>Kuopion   kaupunginorkesteri<br>Janne Nisonen, kapellimestari<br>Huuliharppuyhtye   Sväng<br><br>Huuliharppumusiikin hurmaava ilmiö, neljän virtuoosin   muodostama ensemble, yhdistää kansanmusiikin, jazzin, klassisen ja   maailmanmusiikin omaleimaiseksi, energiseksi ja yllätykselliseksi   kokonaisuudeksi. Kansainvälisesti ylistetyn yhtyeen virtuoosinen soitto,   tarttuva energia ja perikaurismäkeläinen huumori tekevät konsertista   unohtumattoman elämyksen. Ohjelman johtoteemana on tango, mutta   musiikillinen matka ylittää tyylirajat balkan-rytmeistä Sibeliukseen,   polskasta Chopiniin. Luvassa on rytmiä, svängiä ja tarttuvaa iloa.<br><br>Järj.   Kuopion kaupunginorkesteri<br>Konsertti sisältyy Kausikorttiin ja   Minisarjaan 2.</p> <br /><br />  Visit event in our website: <a href='https://tapahtumainfo.fi/tapahtuma/2026/10/svangfonia/442866'>Tapahtumainfo.fi</a></body></html>
END:VEVENT
END:VCALENDAR
