BEGIN:VCALENDAR
VERSION:2.0
PRODID:-//tapahtumainfo.fi//NONSGML VASKS & BRUCKNER//EN
METHOD:REQUEST
BEGIN:VEVENT
UID:20260424T092404-2121112296-tapahtumainfo.fi
DTSTAMP:20260424T092404
DTSTART:20261008T180000Z
DTEND:20261008T020000Z
LOCATION:Kuopion Musiikkikeskus Konserttisali
SUMMARY:VASKS & BRUCKNER
DESCRIPTION:<html><head></head><body><p>  <b>To 8.10. klo 18<br>KAUSIKONSERTTI 3:<br>VASKS & BRUCKNER</b><br>Kuopion   kaupunginorkesteri<br>Marzena Diakun, kapellimestari<br>Torleif Thedeen,   sello<br><i><br>Peteris Vasks: Sellokonsertto nro 2 ”Nykyisyys” (2012)<br>Anton   Bruckner: Sinfonia nro 6 A-duuri WAB 106 (1879-1881)</i><br><br>Kuopion   ensivierailullaan puolalaiskapellimestari ja ruotsalaissellisti   tarjoilevat kaksi syvästi inhimillistä teosta. Vasksin toinen   sellokonsertto, lisänimeltään Nykyisyys, on vahvasti ajassa kiinni –   solistisello kulkee läpi levottomuuden ja toivon toimien lähes   ihmisäänenä, kantavana ja haavoittuvana. Se saa seurakseen Brucknerin   kuudennen sinfonian, joka on yksi hänen omaleimaisimmista ja   rohkeimmista teoksistaan. Sinfoninen matka on yhtä aikaa ylevä ja raikas.<br><br>Järj.   Kuopion kaupunginorkesteri<br>Konsertti sisältyy Kausikorttiin ja   Minisarjaan 1.</p> <br /><br />  Visit event in our website: <a href='https://tapahtumainfo.fi/tapahtuma/2026/10/vasks-bruckner/442867'>Tapahtumainfo.fi</a></body></html>
END:VEVENT
END:VCALENDAR
