BEGIN:VCALENDAR
VERSION:2.0
PRODID:-//tapahtumainfo.fi//NONSGML KOLJA BLACHER – MAYUMI KANAGAWA//EN
METHOD:REQUEST
BEGIN:VEVENT
UID:20260421T061306-1376084375-tapahtumainfo.fi
DTSTAMP:20260421T061306
DTSTART:20261022T180000Z
DTEND:20261022T020000Z
LOCATION:Kuopion Musiikkikeskus Konserttisali
SUMMARY:KOLJA BLACHER – MAYUMI KANAGAWA
DESCRIPTION:<html><head></head><body><p>  <b>To 22.10. klo 18<br>KAUSIKONSERTTI 4:<br>KOLJA BLACHER – MAYUMI   KANAGAWA</b><br>Kuopion kaupunginorkesteri<br>Kolja Blacher,   kapellimestari<br>Mayumi Kanagawa, viulu<br><i><br>Boris Blacher:   Paganini-variaatiot op. 26<br>Igor Stravinsky: Viulukonsertto (1931)<br>Pjotr   Tšaikovski: Sinfonia nro 6 h-molli op. 74 ”Pateettinen” (1893)</i><br><br>Paganini-variaatiot   on vauhdikas ja virtuoosinen orkesteriteos, joka leikittelee   kekseliäästi Niccolò Paganinin kuuluisalla teemalla. Entisen opettajansa   (vai: Mentorinsa?) Kolja Blacherin kanssa lavalle nouseva   japanilais–amerikkalainen viulisti Mayumi Kanagawa on tunnettu rikkaasta   soinnistaan ja mukaansatempaavasta musikaalisuudestaan. Hänelle   Stravinskyn viulukonsertto on täynnä vastakohtia, huumoria ja lempeyttä.   Sävelmaailma kulminoituu Tšaikovskin intensiiviseen mestariteokseen ja   yhteen sinfonisen kirjallisuuden vaikuttavimmista finaaleista.<br><br>Järj.   Kuopion kaupunginorkesteri<br>Konsertti sisältyy Kausikorttiin ja   Minisarjaan 2.</p> <br /><br />  Visit event in our website: <a href='https://tapahtumainfo.fi/tapahtuma/2026/10/kolja-blacher--mayumi-kanagawa/442868'>Tapahtumainfo.fi</a></body></html>
END:VEVENT
END:VCALENDAR
