BEGIN:VCALENDAR
VERSION:2.0
PRODID:-//tapahtumainfo.fi//NONSGML CRUSELL & TOMMI HYYTINEN//EN
METHOD:REQUEST
BEGIN:VEVENT
UID:20260423T134436-289980363-tapahtumainfo.fi
DTSTAMP:20260423T134436
DTSTART:20261126T180000Z
DTEND:20261126T020000Z
LOCATION:Kuopion Musiikkikeskus Konserttisali
SUMMARY:CRUSELL & TOMMI HYYTINEN
DESCRIPTION:<html><head></head><body><p>  <b>To 26.11. klo 18<br>KAUSIKONSERTTI 6:<br>CRUSELL & TOMMI HYYTINEN</b><br>Kuopion   kaupunginorkesteri<br>Jascha von der Goltz, kapellimestari<br>Tommi   Hyytinen, käyrätorvi<br><br><i>Richard Dubugnon:   Kamarisinfonia nro 2 op. 77 (2017)<br>Bernhard Crusell:   Käyrätorvikonsertto<br>Robert Schumann: Sinfonia nro 4 d-molli   op. 120 (1841)</i><br><br>Tässä konsertissa 2000-luvun moderni   sävelkieli ja klassinen muoto kohtaavat varhaisromanttisen   käyrätorvikonserton ja romanttisen kauden sinfonisen mestariteoksen.   Crusellin konsertto, jonka luultiin jo kadonneen, on merkittävä   historiallinen suomalainen puhallinteos. Solistina kuullaan Tommi   Hyytistä, joka soitti myös teoksen rekonstruoidun ”kantaesityksen” pari   vuotta sitten. Schumannin neljäs sinfonia on matka kohti valoa – täynnä   draamaa, herkkyyttä ja säveltäjän ainutlaatuista mielikuvitusta.<br><br>Järj.   Kuopion kaupunginorkesteri<br>Konsertti sisältyy Kausikorttiin ja   Minisarjaan 2.</p> <br /><br />  Visit event in our website: <a href='https://tapahtumainfo.fi/tapahtuma/2026/11/crusell-tommi-hyytinen/442870'>Tapahtumainfo.fi</a></body></html>
END:VEVENT
END:VCALENDAR
