BEGIN:VCALENDAR
VERSION:2.0
PRODID:-//tapahtumainfo.fi//NONSGML SEBASTIAN FAGERLUND & CHRISTOFFER SUNDQVIST//EN
METHOD:REQUEST
BEGIN:VEVENT
UID:20260425T202142-151553277-tapahtumainfo.fi
DTSTAMP:20260425T202142
DTSTART:20261203T180000Z
DTEND:20261203T020000Z
LOCATION:Kuopion Musiikkikeskus Konserttisali
SUMMARY:SEBASTIAN FAGERLUND & CHRISTOFFER SUNDQVIST
DESCRIPTION:<html><head></head><body><b>To 3.12. klo 18<br>KAUSIKONSERTTI 7:<br>SEBASTIAN FAGERLUND &   CHRISTOFFER SUNDQVIST</b><br>Kuopion kaupunginorkesteri<br>Eugene   Tzigane, kapellimestari<br>Christoffer Sundqvist, klarinetti<br><br></p><p>  </p><p>  <i>Jaakko Kuusisto: Wiima op. 27 (2008/2011)<br>Sebastian Fagerlund:   Klarinettikonsertto nro 2 (2025)<br>Johannes Brahms: Sinfonia nro 1   c-molli op. 68 (1876)</i><br><br></p><p>  </p><p>  Wiima heijastaa Kuusiston vahvaa sidettä suomalaisen luonnon liikkeeseen   ja valoon – teos kuvaa tuulen virtausta ja suunnanmuutoksia, keveyttä ja   äkillistä voimaa. Jatkuva liike vangitsee kuulijan myös Fagerlundin   klarinettikonsertossa. Teos on kirjoitettu Christoffer Sundqvistille,   jonka virtuoosisuus ja ilmaisun vapaus ovat olleet keskeisiä   inspiraation lähteitä. Illan päättää yksi romantiikan ajan suurista   sinfonisista merkkipaaluista. Beethovenin sinfoninen perintö oli   Brahmsille sekä inspiraation lähde että valtava paine; finaalin   hymnimäinen teema on usein nähty tietoisena keskusteluna Beethovenin   yhdeksännen sinfonian kanssa.</p><p>  </p><p>  <br>  Kesto noin 1h 50 min. sisältää väliajan.<br><br></p><p>  </p><p>  Järj. Kuopion kaupunginorkesteri<br>Konsertti sisältyy   Kausikorttiin ja Minisarjaan 1.</p> <br /><br />  Visit event in our website: <a href='https://tapahtumainfo.fi/tapahtuma/2026/12/sebastian-fagerlund-christoffer-sundqvist/442871'>Tapahtumainfo.fi</a></body></html>
END:VEVENT
END:VCALENDAR
