BEGIN:VCALENDAR
VERSION:2.0
PRODID:-//tapahtumainfo.fi//NONSGML KUOPION KAUPUNGINORKESTERIN KAUSIKORTTI SYKSY 2026//EN
METHOD:REQUEST
BEGIN:VEVENT
UID:20260422T032610-971916574-tapahtumainfo.fi
DTSTAMP:20260422T032610
DTSTART:20260910T180000Z
DTEND:20260910T020000Z
LOCATION:Kuopion Musiikkikeskus Konserttisali
SUMMARY:KUOPION KAUPUNGINORKESTERIN KAUSIKORTTI SYKSY 2026
DESCRIPTION:<html><head></head><body> <br /><br />  Visit event in our website: <a href='https://tapahtumainfo.fi/tapahtuma/2026/09/kuopion-kaupunginorkesterin-kausikortti-syksy-2026/442873'>Tapahtumainfo.fi</a></body></html>
END:VEVENT
END:VCALENDAR
