BEGIN:VCALENDAR
VERSION:2.0
PRODID:-//tapahtumainfo.fi//NONSGML Näyttelykuvia - Heini Kärkkäinen, piano//EN
METHOD:REQUEST
BEGIN:VEVENT
UID:20260424T145808-138058658-tapahtumainfo.fi
DTSTAMP:20260424T145808
DTSTART:20261027T190000Z
DTEND:20261027T020000Z
LOCATION:Kangasala-talo
SUMMARY:Näyttelykuvia - Heini Kärkkäinen, piano
DESCRIPTION:<html><head></head><body><b>Näyttelykuvia</b><br><br>Ohjelma:<br>Maurice Ravel: Sonatiini<br>Olli Koskelin: Discussions with… III<br>Claude Debussy: Estampes<br>Väliaika<br>Modest Musorgski: Näyttelykuvia<br><br><b>Konsertissa kohtaavat ranskalaisen pianomusiikin hienostuneet sävyt ja vahvat tunnelmat</b><br><i>Claude Debussyn Estampes</i> ja <i>Maurice Ravelin Sonatiini</i> syntyivät 1900-luvun alkuvuosina ja edustavat aikakautta, jolloin säveltäjät etsivät uusia sointivärejä ja ilmaisun keinoja. Estampes kantaesitettiin Pariisissa vuonna 1904 ja Sonatiini Lyonissa vuonna 1906 – molemmat teokset avaavat kuulijalle impressionistisen sävelkielen herkän ja vivahteikkaan maailman.<br>Ohjelmassa kuullaan myös<b> Olli Koskelinin</b> teos <i>Discussion with… III</i>, joka sai kantaesityksensä Helsingissä marraskuussa 2025. Teos on teknisesti ja rytmisesti vaativa, ja siinä yhdistyvät improvisatorinen luonne sekä säveltäjän kiinnostus rytmiin ilmaisun ja “puheen” välineenä.<br>Konsertin päättää <b>Modest Musorgskin</b> tunnettu pianoteos <b>Näyttelykuvia</b> vuodelta 1874. Teos on saanut innoituksensa taidemaalari <i>Viktor Hartmannin</i> tauluista ja on alun perin sävelletty pianolle.<br>Vaikka teoksesta tunnetaan lukuisia orkesterisovituksia, erityisesti Maurice Ravelin versio, Musorgskin alkuperäinen pianoteos tarjoaa kuulijalle suoraviivaisen ja voimakkaan elämyksen, jossa kuvataide ja musiikki kietoutuvat toisiinsa.<br><br><b>Heini Kärkkäinen</b><br><b>Heini Kärkkäinen</b> on opiskellut pianonsoittoa Sibelius-Akatemiassa professori<b> Liisa Pohjolan</b> johdolla vuosina 1984-1991 (MuM), ja täydentänyt opintojaan mm.<b> Ralf Gothónin </b>ja <b>Jacques Rouvierin</b> (Pariisi) johdolla. Hän voitti Ilmari Hannikainen -pianokilpailun v.1984 ja sijoittui toiseksi Maj Lind -pianokilpailussa v.1986.<br>Kärkkäinen on soittanut mm. RSO:n, Helsingin kaupunginorkesterin, Tapiola Sinfoniettan, KeskiPohjanmaan kamariorkesterin, Orquesta Ciudad de Granadan ja Orchestra della Svizzera Italianon solistina sekä esiintyy laajasti Euroopassa ja Yhdysvalloissa myös kamarimuusikkona.<br>Solistiuransa ohessa Heini Kärkkäinen on toiminut vuodesta 2010 lähtien Tampereen ammattikorkeakoulussa pianonsoiton yliopettajana. Kärkkäinen perusti kansainvälisen <b>Tampere Chamber Music -festivaalin</b> Tampereelle vuonna 2017.<br><br>Esityksen arvioitu kesto on n. 1 t 35 min, sisältäen väliajan.<br><br>Tuotanto: Kangasala-talo<br><br>Ethän kuvaa esitystä:<br>Esityksen kuvaaminen ja muu tallentaminen on kielletty. Loppukiitosten ja encoren aikana voit ottaa kuvia tai videon muistoksi. Näin pystymme kaikki nauttimaan esityksestä ilman salissa loistavia näyttöjä. Kiitos huomaavaisuudestasi!<br><br><b>Lisäpalvelut</b><br>Naulakkopalvelumaksu 2,50 €<br><br><b>Ravintolan palvelut</b><br>Tule virittäytymään illan tunnelmaan jo ennakkoon! Ravintolapalvelut avautuvat tuntia ennen konserttia.<br><a href="https://kangasala-talo.fi/ravintola/" target="_blank">Tutustu Kulttuuriravintola Jalmarin palveluihin ›</a><br><br><b>Kimmo Pyykkö -taidemuseo</b><br>Kangasala-talossa sijaitseva taidemuseo on avoinna konsertin alkuun saakka.<br><a href="https://kimmopyykkotaidemuseo.fi/" target="_blank">Tutustu näyttelyihin ›</a><br><br><b>Saapuminen</b><br>Kangasala-talo sijaitsee hyvien kulkuyhteyksien varrella ja meille saavut helposti myös bussilla, pyörällä tai kävellen! Lue lisää saapumisesta ja pysäköinnistä <a href="https://kangasala-talo.fi/tule-meille/saapuminen/" target="_blank">täältä ›</a> <br /><br />  Visit event in our website: <a href='https://tapahtumainfo.fi/tapahtuma/2026/10/nayttelykuvia-heini-karkkainen-piano/442876'>Tapahtumainfo.fi</a></body></html>
END:VEVENT
END:VCALENDAR
