BEGIN:VCALENDAR
VERSION:2.0
PRODID:-//tapahtumainfo.fi//NONSGML Vanttausjärven muikkufestivaalit 2026//EN
METHOD:REQUEST
BEGIN:VEVENT
UID:20260423T114601-682540582-tapahtumainfo.fi
DTSTAMP:20260423T114601
DTSTART:20260710T180000Z
DTEND:20260710T020000Z
LOCATION:Vanttausjärven tanssilava
SUMMARY:Vanttausjärven muikkufestivaalit 2026
DESCRIPTION:<html><head></head><body>Festarit alkaa perjantaina karaokella klo 18.00 josta iltaa jatkaa legendaarinen Hausmylly!<br><br>Lauantaina alkuillan aloittaa Originals Hunters, jonka jälkeen tansseista vastaa Anneli Mattila & Recados.<br><br>Perinteeksi muodostuneet Vanttausjärven muikkufestivaalit kutsuvat nauttimaan musiikista, tanssista ja kauniista järvimaisemasta 10.–11.7.2026. Tapahtumassa myydään muikku- ja ruoka-annoksia sekä kahviotuotteita.<br><br>Perjantai-ilta avataan karaokella klo 18.00, jonka jälkeen lavalle nousee legendaarinen Hausmylly viihdyttämään yleisöä. Lauantaina alkuillan käynnistää klo 18.00 tanssiorkesteri Originals Hunters ja iltaa jatkaa Anneli Mattila & Recados.<br><br>Alueella on anniskelu, joka käynnistyy lipunmyynnin yhteydessä klo 18.00. Festivaali tarjoaa rennon ja kauniin ympäristön musiikin ystäville, ja tapahtuma sopii niin paikallisille kuin alueen vierailijoillekin.<br><br>Festarialueella on huomioitu esteettömyys sekä paikalla inva-wc. <br /><br />  Visit event in our website: <a href='https://tapahtumainfo.fi/tapahtuma/2026/07/vanttausjarven-muikkufestivaalit-2026/442878'>Tapahtumainfo.fi</a></body></html>
END:VEVENT
END:VCALENDAR
