BEGIN:VCALENDAR
VERSION:2.0
PRODID:-//tapahtumainfo.fi//NONSGML KUOPION KAUPUNGINORKESTERIN MINISARJA 2 SYKSY 2026//EN
METHOD:REQUEST
BEGIN:VEVENT
UID:20260421T173038-263393559-tapahtumainfo.fi
DTSTAMP:20260421T173038
DTSTART:20261001T180000Z
DTEND:20261001T020000Z
LOCATION:Kuopion Musiikkikeskus Konserttisali
SUMMARY:KUOPION KAUPUNGINORKESTERIN MINISARJA 2 SYKSY 2026
DESCRIPTION:<html><head></head><body> <br /><br />  Visit event in our website: <a href='https://tapahtumainfo.fi/tapahtuma/2026/10/kuopion-kaupunginorkesterin-minisarja-2-syksy-2026/442879'>Tapahtumainfo.fi</a></body></html>
END:VEVENT
END:VCALENDAR
