BEGIN:VCALENDAR
VERSION:2.0
PRODID:-//tapahtumainfo.fi//NONSGML Dance Art kevätnäytös: Tunteet pinnassa//EN
METHOD:REQUEST
BEGIN:VEVENT
UID:20260421T044858-336801719-tapahtumainfo.fi
DTSTAMP:20260421T044858
DTSTART:20260503T170000Z
DTEND:20260503T020000Z
LOCATION:Hyvinkääsali
SUMMARY:Dance Art kevätnäytös: Tunteet pinnassa
DESCRIPTION:<html><head></head><body>Tanssistudio Dance Art / Kevätnäytökset 2.-3.5.2026 / TUNTEET PINNASSA <br /><br />  Visit event in our website: <a href='https://tapahtumainfo.fi/tapahtuma/2026/05/dance-art-kevatnaytos-tunteet-pinnassa/442883'>Tapahtumainfo.fi</a></body></html>
END:VEVENT
END:VCALENDAR
