BEGIN:VCALENDAR
VERSION:2.0
PRODID:-//tapahtumainfo.fi//NONSGML Puistopartio Kaivurikaverit-kiertue 2026//EN
METHOD:REQUEST
BEGIN:VEVENT
UID:20260421T113145-1747355988-tapahtumainfo.fi
DTSTAMP:20260421T113145
DTSTART:20261128T150000Z
DTEND:20261128T020000Z
LOCATION:Littoisten monitoimitalo
SUMMARY:Puistopartio Kaivurikaverit-kiertue 2026
DESCRIPTION:<html><head></head><body><b>Puistopartio | Kaivurikaverit-kiertue 2026</b><br><br>Tervetuloa Puistopartion matkaan koko perheen iloiseen konserttiin! Supersuosituissa työkoneista kertovissa lauluissa seikkailevat kaivurit, kippiautot, hälytysajoneuvot ja muut isot koneet. Tule mukaan laulamaan, tanssimaan ja pitämään hauskaa yhdessä!<br><br>Kaivurikaverit-kiertue 2026<br>4.9. Mikkeli<br>5.9. Lahti (2 konserttia)<br>6.9. Pori<br>25.9. Joensuu<br>26.9. Kuopio (2 konserttia)<br>27.9. Jyväskylä (2 konserttia)<br>13.11. Rovaniemi<br>14.11. Oulu (2 konserttia)<br>15.11. Ilmajoki (2 konserttia)<br>27.11. Lempäälä<br>28.11. Kaarina (2 konserttia)<br>29.11. Helsinki (2 konserttia)<br><br>Konsertin kesto noin 45 minuuttia.<br>Konsertin jälkeen Puistopartion Meet & Greet.<br><br>Konsertti soveltuu kaikenikäisille.<br>Alle 1-vuotiaat maksutta.<br><br>Puistopartio on lastenmusiikkiyhtye, jonka laulut kertovat työkoneista. Suosituista YouTube-videoista tutut kappaleet innostavat laulamaan ja tanssimaan – energinen meininki laittaa telaketjut vipattamaan! <br /><br />  Visit event in our website: <a href='https://tapahtumainfo.fi/tapahtuma/2026/11/puistopartio-kaivurikaverit-kiertue-2026/442900'>Tapahtumainfo.fi</a></body></html>
END:VEVENT
END:VCALENDAR
