BEGIN:VCALENDAR
VERSION:2.0
PRODID:-//tapahtumainfo.fi//NONSGML Lahden Tanssiopiston kesänäytös//EN
METHOD:REQUEST
BEGIN:VEVENT
UID:20260424T132517-1487657473-tapahtumainfo.fi
DTSTAMP:20260424T132517
DTSTART:20260522T183000Z
DTEND:20260522T020000Z
LOCATION:Suuri näyttämö, Lahden Kaupunginteatteri
SUMMARY:Lahden Tanssiopiston kesänäytös
DESCRIPTION:<html><head></head><body><b>Lahden Tanssiopisto</b> tarjoaa ainutlaatuisen esityksen täynnä tanssin ja sirkuksen taikaa. Nauti esityksistä eri lajeissa, joissa eri-ikäiset esiintyjät yhdistyvät luomaan elämyksen täynnä liikettä ja iloa.<br><br>Tule mukaan ja koe taiteen voima yhdessä!<br><br>Perjantai 22.5.2026 klo 18.30 Lahden Kaupunginteatteri, suuri näyttämö<br>Kesto n. 2,5h sis. väliajan<br>Esitys soveltuu koko perheelle <br /><br />  Visit event in our website: <a href='https://tapahtumainfo.fi/tapahtuma/2026/05/lahden-tanssiopiston-kesanaytos/442904'>Tapahtumainfo.fi</a></body></html>
END:VEVENT
END:VCALENDAR
