BEGIN:VCALENDAR
VERSION:2.0
PRODID:-//tapahtumainfo.fi//NONSGML Tampereen Kamarimusiikkiseura 80 vuotta//EN
METHOD:REQUEST
BEGIN:VEVENT
UID:20260421T061420-2018336453-tapahtumainfo.fi
DTSTAMP:20260421T061420
DTSTART:20261022T180000Z
DTEND:20261022T020000Z
LOCATION:Tampere-talo, Pieni sali
SUMMARY:Tampereen Kamarimusiikkiseura 80 vuotta
DESCRIPTION:<html><head></head><body>To 22.10.2026 klo 18<br><b>Kulkevat tarinat – Tampereen Kamarimusiikkiseura 80 vuotta</b><br>Pieni sali, Tampere-talo<br>Perusliput 28 €, eläkeläiset 25, lapset ja nuoret (alle 16-v.) sekä opiskelijat 10 €<br><br>Esiintyjät:<br>Tampereen Kamarimusiikkiseuran orkesteri<br><b>Miika Jämsä</b>, kapellimestari<br><b>Topi Lehtipuu</b>, tenori<br><b>Jussi Lehtipuu</b>, baritoni<br><br>Tampereen Kamarimusiikkiseuran orkesterin 80-vuotiskonsertissa kiehtovat tarinat kulkevat läpi musiikin vuosisataisen historian tähän päivään saakka. Juhlakonsertin johtaa kapellimestari <b>Miika Jämsä</b>, ja solisteina taituroivat kansainvälisesti arvostetut tenori <b>Topi Lehtipuu</b> ja baritoni <b>Jussi Lehtipuu</b>.<br><br>Konsertissa kuullaan dramatiikkaa Purcellin oopperasta Kuningas Arthur, kuolinkohtaus Händelin oopperasta Tamerlano sekä rohkaisevia aarioita Bachin kantaateista. Telemannin ja Ravelin tulkinnat veijariritari Don Quijotesta pursuavat seikkailuja ja romantiikkaa.<br><br>Lisäksi kuullaan tunteikkaita lauluja Mozartilta, orkesterin pitkäaikaisen johtajan <b>Eero Veneskosken</b> hellänkipeä Elegia sekä tamperelaisen säveltäjä <b>Petri Niemisen</b> orkesterille säveltämä uusi teos.<br><br>Konsertin kesto on n. 2 tuntia sisältäen väliajan.<br><br>Muutokset mahdollisia.<br><br>Tuotanto: Tampere-talo <br /><br />  Visit event in our website: <a href='https://tapahtumainfo.fi/tapahtuma/2026/10/tampereen-kamarimusiikkiseura-80-vuotta/442905'>Tapahtumainfo.fi</a></body></html>
END:VEVENT
END:VCALENDAR
