BEGIN:VCALENDAR
VERSION:2.0
PRODID:-//tapahtumainfo.fi//NONSGML for every home, a stone//EN
METHOD:REQUEST
BEGIN:VEVENT
UID:20260423T021548-476493651-tapahtumainfo.fi
DTSTAMP:20260423T021548
DTSTART:20260530T150000Z
DTEND:20260530T020000Z
LOCATION:Mad House Helsinki
SUMMARY:for every home, a stone
DESCRIPTION:<html><head></head><body><p>  Alexandra Mitiku: <i>for every home, a stone<br></i><br></p><p>  <b>28.5. I 19.00<br>29.5. I 19.00<br>30.5. I 15.00</b></p><p>  </p><p>  *</p><p>  <i>for every home, a stone</i><b> </b> on ritualistinen meditaatio   siitä, kuinka maa, ihmiset ja koti vaihdetaan luonnonvaroja riistävään   kehitykseen. Nimi viittaa 돌탑/doltap-nimisiin korealaisiin kivitorneihin,   joissa jokainen kivi asetetaan rukoukseksi, muistoksi tai jättämään   jäljen omasta läsnäolostaan. </p><p>  Esityksessä käytetyt kivet on kerätty Helsingin ympäristön   rakennustyömailta, samoin kuin muut lavastuksen materiaalit. Nämä   materiaalit, jotka alun perin oli tarkoitettu betonirakenteiksi,   asetetaan uuteen kontekstiin; mytopoetiikan, prosessoitujen   äänimaisemien ja liikkeen kautta alkuperäiset tarkoitukset puretaan ja   tilalle esitetään vaihtoehtoisia loppuratkaisuja</p><p>  *</p><p>  <i>for every home, a stone</i><b> </b>is a ritualistic meditation on how   earth, people, and home are exchanged for extractive forms of   development. The title is a reference to<br>돌탑/doltap, Korean stone   towers, where every stone is placed in prayer, remembrance; or to leave   a trace of one’s presence behind. </p><p>  <br>  The stones in the performance are collected from construction sites   around Helsinki, as are the other materials of the set. These raw   materials originally intended to become concrete erections are   recontextualized; in a seduction of mythopoetics, processed soundscapes,   and movement the original intentions are extracted and alternative   endings are presented.<br></p><p>  Varaa pyörätuolipaikka ja avustajalippu sähköpostitse:   liput@madhousehelsinki.fi</p> <br /><br />  Visit event in our website: <a href='https://tapahtumainfo.fi/tapahtuma/2026/05/for-every-home-a-stone/442908'>Tapahtumainfo.fi</a></body></html>
END:VEVENT
END:VCALENDAR
