BEGIN:VCALENDAR
VERSION:2.0
PRODID:-//tapahtumainfo.fi//NONSGML Enkelten Suojatit//EN
METHOD:REQUEST
BEGIN:VEVENT
UID:20260423T024221-319794561-tapahtumainfo.fi
DTSTAMP:20260423T024221
DTSTART:20260707T180000Z
DTEND:20260707T020000Z
LOCATION:Myllykolun Kesäteatteri
SUMMARY:Enkelten Suojatit
DESCRIPTION:<html><head></head><body><b>Lasten kohtaloita sadan vuoden takaa<br></b><br>Kapinasota on takana ja pitäjässä satoja orpolapsia. Pukkilan Iita yrittää voimiensa takaa huolehtia omistaan. Riittääkö kuivaa leipää huomiseksi? Saadaanko meijeristä joppia? Jaksaako pieni Eino tehdä Jutilan mailla heinätöitä? Mistä Eero saisi laivarahan, että pääsisi käymään mummun tykönä?<br><br>Vanhempi herra tarkkailee kyläläisten elämää huvilansa liepeillä. Maantieltä poikkeaa herran huvilaan outo Kujalan Selma, jota yritetään opettaa ihmisten tavoille. Villi piikatyttö ei asetu, vaan alkaa varastella. Mikä tulee olemaan hänen kohtalonsa?<br><br>F. E. Sillanpää kuvasi aikansa lapsiköyhyyttä sekä ymmärtäen että kriittisesti. Hän tuntee läheisesti aiheensa, kertojana hän hymyilee kyynelten lävitse. Novellikokoelma<i> Enkelten suojatit</i> ilmestyi vuonna 1923, ja sillä oli vaikutusta Mannerheimin Lastensuojeluyhdistyksen paikallisosaston perustamiseen Hämeenkyrössä. Kirjailija toimi itse sen johtotehtävissä.<br><br>Myllykolun Teatteri nostaa nyt esiin Nobel-kirjailijan vähemmän tunnettua tuotantoa. Sillanpään lapsinovellit ovat herkkyydessään alan huippuja, ja niitä on käännetty monille kielille. Meidän aikamme lapsiköyhyys asettuu niissä historialliseen perspektiiviin. Elämän ilmiöt toistuvat muuttuvin muodoin aikakaudesta toiseen. Meidän tehtävämme on puuttua niihin aina uudelleen.<br><br>Avustaja pääsee samalla lipulla avustettavan kanssa.<br><br>Katsomo on katettu<br><br>P-alueelta matkaa teatteriin on noin 300 m. <br /><br />  Visit event in our website: <a href='https://tapahtumainfo.fi/tapahtuma/2026/07/enkelten-suojatit/442909'>Tapahtumainfo.fi</a></body></html>
END:VEVENT
END:VCALENDAR
