BEGIN:VCALENDAR
VERSION:2.0
PRODID:-//tapahtumainfo.fi//NONSGML Mara Balls K-18//EN
METHOD:REQUEST
BEGIN:VEVENT
UID:20260421T071928-129030236-tapahtumainfo.fi
DTSTAMP:20260421T071928
DTSTART:20260516T220000Z
DTEND:20260516T020000Z
LOCATION:Tähti, Train Factory
SUMMARY:Mara Balls K-18
DESCRIPTION:<html><head></head><body><b>MARA BALLS – M I E L E N R A U H A A 2 6</b><br><br><br />Mielenrauhaa 26 on Maran manifesti vuodelle 2026. Mara Ballsin hypnoottiset bändisovitukset kutsuvat keskittymään ja olemaan läsnä. Laulut auttavat kuulijaa ankkuroitumaan sisältä löytyvään rauhan tilaan. Maria "Mara" Mattila on Mara Balls -yhtyeen herkkä ja hurmoksellinen laulaja-kitaristi. Uuden trion dynaamiset ja hiljaa soittamisen mahdollisuuksia tutkivat sovitukset yhdessä Maran läpitunkevan kitarasaundin kanssa seivästävät paatuneimmankin panssarin. Herkkyyden ja voiman väkevä liitto pakottaa olemaan läsnä joka solulla. "Soitto on soiva portti sisimpään ja laulu on lanka, joka sitoo meidät kaikki hetkeksi yhteen. Olet turvassa, olet hyväksytty, olet olemassa nyt ja tässä." - Mara<br />Mara Balls on: <b>Mara</b> – Kitara & laulu, <b>Tommi</b> – Basso & laulu,<b> Eci</b> – Rummut & laulu<br><br><br /><br />Ovet klo 21, showtime klo 22<br><br />K-18<br> <br /><br />  Visit event in our website: <a href='https://tapahtumainfo.fi/tapahtuma/2026/05/mara-balls-k-18/442918'>Tapahtumainfo.fi</a></body></html>
END:VEVENT
END:VCALENDAR
