BEGIN:VCALENDAR
VERSION:2.0
PRODID:-//tapahtumainfo.fi//NONSGML KARLO HAAPIAINEN & VARASLÄHTÖ -levynjulkaisukeikka//EN
METHOD:REQUEST
BEGIN:VEVENT
UID:20260425T220926-22630398-tapahtumainfo.fi
DTSTAMP:20260425T220926
DTSTART:20260905T190000Z
DTEND:20260905T020000Z
LOCATION:Musiikkiteatteri Kapsäkki
SUMMARY:KARLO HAAPIAINEN & VARASLÄHTÖ -levynjulkaisukeikka
DESCRIPTION:<html><head></head><body><b>KARLO HAAPIAINEN & VARASLÄHTÖ</b> -levynjulkaisukeikka <br>10-vuotta humppaa!<br>la 5.9. klo 19 <br><br>13-henkinen orkesteri hurmaa poljennollaan, energiallaan ja kirkasäänisellä solistillaan. <br><br>Luonnonvoimana vyöryvä Varaslähtö julkaisee syksyllä 2026 uuden Peijaiset -albumin. Vetävä kokonaisuus liikuttaa kuulijoita latinomusiikin, iskelmän sekä tietysti humpan tahtiin. Varaslähdöstä löytyy puhaltimia, jousia, peräti 14 hanuria (joista yksi haitari!) ja yksi tenori.  Varaslähtö soi live-musiikin ilosanomaa! Mitään tällaista et ole nähnyt, tai tietysti olet, jos olet nähnyt Varaslähdön keikalla. Mutta, muuten et.<br><br><i>Peijaiset -albumi on kokonaisuus, jossa tehdään välitilinpäätöstä tähänastisesta elämästä. 10-vuotias Varaslähtö liikahtaa uuteen suuntaan, unohtamatta uskollista kuulijakuntaa. Kappaleet menevät liukkaasti jalan alle</i>. –Karlo Haapiaine, solisti-sanoittaja <br><br>Ilta kulkee suomalaisen iltamaperinteen mukaisesti ja väliajan jälkeen yleisö pääsee halutessaan tanssimaan!<br><br><b>Karlo Haapiainen & Varaslähtö</b> on vuonna 2016 perustettu orkesteri, joka julistaa livemusiikin lumoa! Humpan ja iskelmän perinteestä ammentava kokoonpano uudistaa sitä poikkeuksellisen omalakisesti.<br>Kapellimestari Seppo Äikäs on kerännyt 13 soittajan kokoonpanon, jonka keulilla häärii näyttelijä-laulaja Karlo Haapiainen. Energisistä live-esiintymisistään tunnettu orkesteri on hurmannut kuulijoita ja noussut kulttisuosioon vuosien varrella. Varaslähdön ohjelmistossa liikutaan sulavasti humpasta tangoon, foxtrotista balladeihin – aina vahvalla tulkinnalla ja tunteella.<br><br>Sanoitukset ovat <b>Karlo Haapiaisen</b> kynästä ja sävellykset <b>Seppo Äikkään</b> hanurista.<br><br>Esiintyjät: Karlo Haapiainen & Varaslähtö <br><br>Liput:  34€/29€/22€ <br>Kesto: n. 2 h sis. (väliajan) <br><br>Kuva: Seppo Toivari <br /><br />  Visit event in our website: <a href='https://tapahtumainfo.fi/tapahtuma/2026/09/karlo-haapiainen-varaslahto-levynjulkaisukeikka/442919'>Tapahtumainfo.fi</a></body></html>
END:VEVENT
END:VCALENDAR
