BEGIN:VCALENDAR
VERSION:2.0
PRODID:-//tapahtumainfo.fi//NONSGML Value Summit 2026 Arvogaala//EN
METHOD:REQUEST
BEGIN:VEVENT
UID:20260423T045005-574068573-tapahtumainfo.fi
DTSTAMP:20260423T045005
DTSTART:20261024T180000Z
DTEND:20261024T020000Z
LOCATION:Finnlaysonin palatsi
SUMMARY:Value Summit 2026 Arvogaala
DESCRIPTION:<html><head></head><body><p>  <b>Gaalailta sisältää Jazz 100 vuotta-konsertin, kolmen ruokalajin   juhlaillallisen, laadukkaita puheenvuoroja ja paneelikeskustelua, Vuoden   2026 Arvojohtaja ja Vuoden 2026 Arvoteko - tunnustusten jaon.</b><br><br></p><p>  <b>Bianca Morales </b>on virtuoosimainen jazzlaulajatar ja   karismaattinen esiintyjä, joka nousi suuren yleisön tietoisuuteen jo   1980-luvulla voitettuaan MTV3:n <i>"Kevään Sävel"-kilpailun v 1984,   laulullaan "Our Party". Nykyään hän on kansainvälisesti arvostettu ja   kokenut solisti niin jazzyhtyeiden kuin big bandien riveissä. Biancan   ilmaisuvoimainen ja leikkisä tyyli, scat- ja kazoo-sooloineen, tempaavat   yleisön mukaansa, ja Biancan esityksissä myös yleisöllä on lupa laulaa   mukana. Bianca ja Gimer lupaavat gaalayleisölle svengaavan ohjelman   täynnä ikivihreitä swing- ja jazzmusiikin kestosuosikkeja, koskettavia   tulkintoja, musiikin iloa ja yllätyksiä.</i></p><p>  <i>Keynote-puhujana on <b>Ari Rämö</b>, kokenut yritysjohtaja,   kirjailija ja luennoitsija, joka on vienyt teoriansa johtamisesta   käytäntöön menestyksekkäästi.</i><br><br></p><p>  <i>Gaalan juontaa <b>Ira Hammermann</b> Ira Hammermann on juontaja, joka   yhdistää asiantuntemuksen, läsnäolon ja empaattisuuden, tehden   tilaisuudesta mieleenpainuvan kokemuksen.</i></p><p>  <i>Gaala, konsertti ja juhlaillallinen toteutetaan upeassa ja   historiallisessa Finlaysonin palatsin talvipuutarhasalissa Tampereella.</i><br><br></p><p>  <b><i>Tervetuloa nauttimaan lokakuisena lauantai-iltana lämpimästä   tunnelmasta, upeasta musiikista, vaikuttavista puheenvuoroista ja   herkullisesta juhlaillallisesta!</i></b></p><p>  <b><i>Pukukoodi: </i></b><i>iltapuku / gaalapukeutuminen</i><br><br>Lipunmyynti   aukeaa 19.4.2026 ja päättyy 17.10.2026 tai kun Gaala on loppuunmyyty.   Paikkoja on rajoitetusti. Peruslippu on 129 € ja kahden hengen illallis-   ja konserttilippu on 210 €. Early Bird lippuja on myynnissä ajalla   19.4.- 30.7.2026 hintaan 99 € hlö.  Tunnelmallinen arvojohtajuuden   Gaalailta sisältää kolmen ruokalajin illallisen, </p><p>  kansainvälisen jazz-virtuoosin Bianca Moralesin Happy Jazz-konsertin,   joka tuo iltaan rytmiä, tunnetta ja juhlan tuntua.</p> <br /><br />  Visit event in our website: <a href='https://tapahtumainfo.fi/tapahtuma/2026/10/value-summit-2026-arvogaala/442920'>Tapahtumainfo.fi</a></body></html>
END:VEVENT
END:VCALENDAR
