BEGIN:VCALENDAR
VERSION:2.0
PRODID:-//tapahtumainfo.fi//NONSGML Pasi ja Anssi Summerissa, K-17//EN
METHOD:REQUEST
BEGIN:VEVENT
UID:20260422T203430-449462855-tapahtumainfo.fi
DTSTAMP:20260422T203430
DTSTART:20260501T223000Z
DTEND:20260501T020000Z
LOCATION:Kesä- ja tapahtumaravintola Summer
SUMMARY:Pasi ja Anssi Summerissa, K-17
DESCRIPTION:<html><head></head><body>Suuntaa juhlatunnelmaan ravintola Summeriin, kun lavalle nousee Pasi ja Anssi. Luvassa on energinen show ja varsinaiset vappubileet, joita et halua missata. Nappaa kaverit mukaan ja tule juhlimaan! <br /><br />  Visit event in our website: <a href='https://tapahtumainfo.fi/tapahtuma/2026/05/pasi-ja-anssi-summerissa-k-17/442923'>Tapahtumainfo.fi</a></body></html>
END:VEVENT
END:VCALENDAR
