BEGIN:VCALENDAR
VERSION:2.0
PRODID:-//tapahtumainfo.fi//NONSGML Billy Strings//EN
METHOD:REQUEST
BEGIN:VEVENT
UID:20260423T062206-996870173-tapahtumainfo.fi
DTSTAMP:20260423T062206
DTSTART:20260920T193000Z
DTEND:20260920T020000Z
LOCATION:
SUMMARY:Billy Strings
DESCRIPTION:<html><head></head><body> <br /><br />  Visit event in our website: <a href='https://tapahtumainfo.fi/tapahtuma/2026/09/billy-strings/442926'>Tapahtumainfo.fi</a></body></html>
END:VEVENT
END:VCALENDAR
