BEGIN:VCALENDAR
VERSION:2.0
PRODID:-//tapahtumainfo.fi//NONSGML Yankee Stadium Pregame Tour//EN
METHOD:REQUEST
BEGIN:VEVENT
UID:20260422T143459-570982484-tapahtumainfo.fi
DTSTAMP:20260422T143459
DTSTART:20260607T020000Z
DTEND:20260607T020000Z
LOCATION:
SUMMARY:Yankee Stadium Pregame Tour
DESCRIPTION:<html><head></head><body> <br /><br />  Visit event in our website: <a href='https://tapahtumainfo.fi/tapahtuma/2026/06/yankee-stadium-pregame-tour/442935'>Tapahtumainfo.fi</a></body></html>
END:VEVENT
END:VCALENDAR
